BEGIN:VCALENDAR
VERSION:2.0
PRODID:-//The Twisted Bead and Rock Shop - ECPv6.15.20//NONSGML v1.0//EN
CALSCALE:GREGORIAN
METHOD:PUBLISH
X-WR-CALNAME:The Twisted Bead and Rock Shop
X-ORIGINAL-URL:https://thetwistedbead.com
X-WR-CALDESC:Events for The Twisted Bead and Rock Shop
REFRESH-INTERVAL;VALUE=DURATION:PT1H
X-Robots-Tag:noindex
X-PUBLISHED-TTL:PT1H
BEGIN:VTIMEZONE
TZID:America/New_York
BEGIN:DAYLIGHT
TZOFFSETFROM:-0500
TZOFFSETTO:-0400
TZNAME:EDT
DTSTART:20250309T070000
END:DAYLIGHT
BEGIN:STANDARD
TZOFFSETFROM:-0400
TZOFFSETTO:-0500
TZNAME:EST
DTSTART:20251102T060000
END:STANDARD
BEGIN:DAYLIGHT
TZOFFSETFROM:-0500
TZOFFSETTO:-0400
TZNAME:EDT
DTSTART:20260308T070000
END:DAYLIGHT
BEGIN:STANDARD
TZOFFSETFROM:-0400
TZOFFSETTO:-0500
TZNAME:EST
DTSTART:20261101T060000
END:STANDARD
BEGIN:DAYLIGHT
TZOFFSETFROM:-0500
TZOFFSETTO:-0400
TZNAME:EDT
DTSTART:20270314T070000
END:DAYLIGHT
BEGIN:STANDARD
TZOFFSETFROM:-0400
TZOFFSETTO:-0500
TZNAME:EST
DTSTART:20271107T060000
END:STANDARD
END:VTIMEZONE
BEGIN:VEVENT
DTSTART;TZID=America/New_York:20260224T110000
DTEND;TZID=America/New_York:20260224T123000
DTSTAMP:20260423T064725
CREATED:20230320T203149Z
LAST-MODIFIED:20260217T152536Z
UID:4375-1771930800-1771936200@thetwistedbead.com
SUMMARY:Tree of Life Wire Wrap class on February 24th at 11am
DESCRIPTION:In this Tree of Life wire wrap class\, students will learn to shape their own wire form\, craft branches and the trunk to create their own unique tree. Students may use their choice of small gemstones\, crystals\, or seed beads.  Class time is approximately 1.5 hours. Class fee is  $40 + materials. Plan to arrive a few minutes early to select your beads. Wire wrapping experience helpful but not necessary. \nThe Tree of Life is the universal symbol of strength and growth. The strength results from the deep roots the tree sends down into the soil which grounds and stabilizes for life lessons we will pass through. The tree canopy represents the growth of knowledge and wisdom we gain as we progress through life’s journey.  Join us and make your life journey tree of life.
URL:https://thetwistedbead.com/classes-events/tree-of-life-wire-wrap-class/
LOCATION:159 Mitchells Chance Road\, Edgewater MD 21037\, 159 Mitchells Chance Rd\, Edgewater\, MD\, 21037
CATEGORIES:Class
ATTACH;FMTTYPE=image/jpeg:https://thetwistedbead.com/wp-content/uploads/2017/05/TREE-OF-LIFE-CLASS-rotated-e1678467587258.jpg
END:VEVENT
END:VCALENDAR