BEGIN:VCALENDAR
VERSION:2.0
PRODID:-//The Twisted Bead and Rock Shop - ECPv6.15.20//NONSGML v1.0//EN
CALSCALE:GREGORIAN
METHOD:PUBLISH
X-WR-CALNAME:The Twisted Bead and Rock Shop
X-ORIGINAL-URL:https://thetwistedbead.com
X-WR-CALDESC:Events for The Twisted Bead and Rock Shop
REFRESH-INTERVAL;VALUE=DURATION:PT1H
X-Robots-Tag:noindex
X-PUBLISHED-TTL:PT1H
BEGIN:VTIMEZONE
TZID:America/New_York
BEGIN:DAYLIGHT
TZOFFSETFROM:-0500
TZOFFSETTO:-0400
TZNAME:EDT
DTSTART:20170312T070000
END:DAYLIGHT
BEGIN:STANDARD
TZOFFSETFROM:-0400
TZOFFSETTO:-0500
TZNAME:EST
DTSTART:20171105T060000
END:STANDARD
BEGIN:DAYLIGHT
TZOFFSETFROM:-0500
TZOFFSETTO:-0400
TZNAME:EDT
DTSTART:20180311T070000
END:DAYLIGHT
BEGIN:STANDARD
TZOFFSETFROM:-0400
TZOFFSETTO:-0500
TZNAME:EST
DTSTART:20181104T060000
END:STANDARD
BEGIN:DAYLIGHT
TZOFFSETFROM:-0500
TZOFFSETTO:-0400
TZNAME:EDT
DTSTART:20190310T070000
END:DAYLIGHT
BEGIN:STANDARD
TZOFFSETFROM:-0400
TZOFFSETTO:-0500
TZNAME:EST
DTSTART:20191103T060000
END:STANDARD
END:VTIMEZONE
BEGIN:VEVENT
DTSTART;TZID=America/New_York:20181207T103000
DTEND;TZID=America/New_York:20181207T120000
DTSTAMP:20260423T121414
CREATED:20181120T222427Z
LAST-MODIFIED:20181121T162015Z
UID:4164-1544178600-1544184000@thetwistedbead.com
SUMMARY:DiamonDuo Star stitching class Dec 7\, 10:30am
DESCRIPTION:Thank you to  Deb Roberti for allowing us to teach her DiamonDuo Star design.  Select from our new Gem Duo beads and create this fun pendant\, earrings or holiday decoration. Some stitching experience is helpful. Class time: approximately 1.5 hours\, Class Fee: $22 + materials
URL:https://thetwistedbead.com/classes-events/diamonduo-star-stitching-class-dec-7-1030am/
LOCATION:The Twisted Bead Design Studio\, 9 Lee Airpark Drive\, Edgewater\, MD\, 21037\, United States
CATEGORIES:New Class
ATTACH;FMTTYPE=image/jpeg:https://thetwistedbead.com/wp-content/uploads/2018/11/GEM-DUO-STAR-e1542751780470-scaled.jpg
END:VEVENT
END:VCALENDAR