BEGIN:VCALENDAR
VERSION:2.0
PRODID:-//The Twisted Bead and Rock Shop - ECPv6.15.20//NONSGML v1.0//EN
CALSCALE:GREGORIAN
METHOD:PUBLISH
X-ORIGINAL-URL:https://thetwistedbead.com
X-WR-CALDESC:Events for The Twisted Bead and Rock Shop
REFRESH-INTERVAL;VALUE=DURATION:PT1H
X-Robots-Tag:noindex
X-PUBLISHED-TTL:PT1H
BEGIN:VTIMEZONE
TZID:America/New_York
BEGIN:DAYLIGHT
TZOFFSETFROM:-0500
TZOFFSETTO:-0400
TZNAME:EDT
DTSTART:20180311T070000
END:DAYLIGHT
BEGIN:STANDARD
TZOFFSETFROM:-0400
TZOFFSETTO:-0500
TZNAME:EST
DTSTART:20181104T060000
END:STANDARD
BEGIN:DAYLIGHT
TZOFFSETFROM:-0500
TZOFFSETTO:-0400
TZNAME:EDT
DTSTART:20190310T070000
END:DAYLIGHT
BEGIN:STANDARD
TZOFFSETFROM:-0400
TZOFFSETTO:-0500
TZNAME:EST
DTSTART:20191103T060000
END:STANDARD
BEGIN:DAYLIGHT
TZOFFSETFROM:-0500
TZOFFSETTO:-0400
TZNAME:EDT
DTSTART:20200308T070000
END:DAYLIGHT
BEGIN:STANDARD
TZOFFSETFROM:-0400
TZOFFSETTO:-0500
TZNAME:EST
DTSTART:20201101T060000
END:STANDARD
END:VTIMEZONE
BEGIN:VEVENT
DTSTART;TZID=America/New_York:20190723T103000
DTEND;TZID=America/New_York:20190723T103000
DTSTAMP:20260422T181447
CREATED:20160726T011350Z
LAST-MODIFIED:20190706T194000Z
UID:2962-1563877800-1563877800@thetwistedbead.com
SUMMARY:Macrame' Knotting Class\, July 23\, 10:30am
DESCRIPTION:Macramé is such a fun knotting project for the entire family to join in on from teens as well as the ladies and men. Come join our guest instructor\, Sharon to see just what you can design in a fun filled and informative class. Use one or more of the knots to create your own unique bracelet. Class Fee: $25 + materials Class Time: 1.5 hour
URL:https://thetwistedbead.com/classes-events/macrame-knotting-class/
LOCATION:The Twisted Bead Design Studio\, 9 Lee Airpark Drive\, Edgewater\, MD\, 21037\, United States
CATEGORIES:Class
END:VEVENT
END:VCALENDAR