BEGIN:VCALENDAR
VERSION:2.0
PRODID:-//The Twisted Bead and Rock Shop - ECPv6.15.20//NONSGML v1.0//EN
CALSCALE:GREGORIAN
METHOD:PUBLISH
X-ORIGINAL-URL:https://thetwistedbead.com
X-WR-CALDESC:Events for The Twisted Bead and Rock Shop
REFRESH-INTERVAL;VALUE=DURATION:PT1H
X-Robots-Tag:noindex
X-PUBLISHED-TTL:PT1H
BEGIN:VTIMEZONE
TZID:America/New_York
BEGIN:DAYLIGHT
TZOFFSETFROM:-0500
TZOFFSETTO:-0400
TZNAME:EDT
DTSTART:20230312T070000
END:DAYLIGHT
BEGIN:STANDARD
TZOFFSETFROM:-0400
TZOFFSETTO:-0500
TZNAME:EST
DTSTART:20231105T060000
END:STANDARD
BEGIN:DAYLIGHT
TZOFFSETFROM:-0500
TZOFFSETTO:-0400
TZNAME:EDT
DTSTART:20240310T070000
END:DAYLIGHT
BEGIN:STANDARD
TZOFFSETFROM:-0400
TZOFFSETTO:-0500
TZNAME:EST
DTSTART:20241103T060000
END:STANDARD
BEGIN:DAYLIGHT
TZOFFSETFROM:-0500
TZOFFSETTO:-0400
TZNAME:EDT
DTSTART:20250309T070000
END:DAYLIGHT
BEGIN:STANDARD
TZOFFSETFROM:-0400
TZOFFSETTO:-0500
TZNAME:EST
DTSTART:20251102T060000
END:STANDARD
END:VTIMEZONE
BEGIN:VEVENT
DTSTART;TZID=America/New_York:20240601T110000
DTEND;TZID=America/New_York:20240601T123000
DTSTAMP:20260423T165907
CREATED:20240330T183053Z
LAST-MODIFIED:20240501T184542Z
UID:6594-1717239600-1717245000@thetwistedbead.com
SUMMARY:Crystal Journey workshop June 1st at 11:00 am
DESCRIPTION:Join us for a crystal journey workshop filled with self-fulfillment and knowledge\, as you learn about the different metaphysical meanings behind your favorite crystals. This workshop is meant to be an introductory course to crystal work\, the 7 chakras\, and the mystical historic origins of the well loved stones that have been used for centuries! Payment for the class is required upon registration and is geared for a maximum of 10 people! Class fee is $25 and expected duration of time is 1 and 1/2 hour. \nReserve your space here. \n 
URL:https://thetwistedbead.com/classes-events/crystal-journey-workshop-april-19th-at-100-pm/
LOCATION:159 Mitchells Chance Road\, Edgewater MD 21037\, 159 Mitchells Chance Rd\, Edgewater\, MD\, 21037
CATEGORIES:New Class
ATTACH;FMTTYPE=image/jpeg:https://thetwistedbead.com/wp-content/uploads/2021/10/psychic-stones-post--scaled.jpg
END:VEVENT
END:VCALENDAR