BEGIN:VCALENDAR
VERSION:2.0
PRODID:-//The Twisted Bead and Rock Shop - ECPv6.15.20//NONSGML v1.0//EN
CALSCALE:GREGORIAN
METHOD:PUBLISH
X-WR-CALNAME:The Twisted Bead and Rock Shop
X-ORIGINAL-URL:https://thetwistedbead.com
X-WR-CALDESC:Events for The Twisted Bead and Rock Shop
REFRESH-INTERVAL;VALUE=DURATION:PT1H
X-Robots-Tag:noindex
X-PUBLISHED-TTL:PT1H
BEGIN:VTIMEZONE
TZID:America/New_York
BEGIN:DAYLIGHT
TZOFFSETFROM:-0500
TZOFFSETTO:-0400
TZNAME:EDT
DTSTART:20240310T070000
END:DAYLIGHT
BEGIN:STANDARD
TZOFFSETFROM:-0400
TZOFFSETTO:-0500
TZNAME:EST
DTSTART:20241103T060000
END:STANDARD
BEGIN:DAYLIGHT
TZOFFSETFROM:-0500
TZOFFSETTO:-0400
TZNAME:EDT
DTSTART:20250309T070000
END:DAYLIGHT
BEGIN:STANDARD
TZOFFSETFROM:-0400
TZOFFSETTO:-0500
TZNAME:EST
DTSTART:20251102T060000
END:STANDARD
BEGIN:DAYLIGHT
TZOFFSETFROM:-0500
TZOFFSETTO:-0400
TZNAME:EDT
DTSTART:20260308T070000
END:DAYLIGHT
BEGIN:STANDARD
TZOFFSETFROM:-0400
TZOFFSETTO:-0500
TZNAME:EST
DTSTART:20261101T060000
END:STANDARD
END:VTIMEZONE
BEGIN:VEVENT
DTSTART;TZID=America/New_York:20251023T130000
DTEND;TZID=America/New_York:20251023T150000
DTSTAMP:20260422T174845
CREATED:20230509T183928Z
LAST-MODIFIED:20250925T183626Z
UID:6365-1761224400-1761231600@thetwistedbead.com
SUMMARY:Introduction to Peyote stitch weaving class October 23rd at 1:00pm
DESCRIPTION:Join our introduction to Peyote stitch weaving class. Using your choice of Delica beads\, and a clasp\, you will make a beautiful woven bracelet.  No bead weaving experience necessary. Class time is approximately 2 hours. Class fee: $40 + materials Reserve your class here.
URL:https://thetwistedbead.com/classes-events/introduction-to-peyote-stitch-weaving-class/
LOCATION:159 Mitchells Chance Road\, Edgewater MD 21037\, 159 Mitchells Chance Rd\, Edgewater\, MD\, 21037
CATEGORIES:Class
ATTACH;FMTTYPE=image/jpeg:https://thetwistedbead.com/wp-content/uploads/2023/05/IMAGE-1.jpg
END:VEVENT
BEGIN:VEVENT
DTSTART;TZID=America/New_York:20251031T110000
DTEND;TZID=America/New_York:20251031T130000
DTSTAMP:20260422T174845
CREATED:20160726T003937Z
LAST-MODIFIED:20251023T181606Z
UID:2957-1761908400-1761915600@thetwistedbead.com
SUMMARY:Illusion Necklace Class\, October 31 at 11:00am
DESCRIPTION:Illusion Necklace Class: Students will create a unique\, one-of-a kind\, 1 or 2 strand illusion necklace using a mono-filament without the use of crimps. Select from a wide range of light-weight materials. This is a great class for learning the design principles and using up those odd pierces in your stash. Please arrive at least 20 – 30  minutes early to select your materials. Students will leave with a finished project. Class fee is $ 35 + materials. Average class time is 2  hours. \n 
URL:https://thetwistedbead.com/classes-events/illusion-necklace-class/
LOCATION:159 Mitchells Chance Road\, Edgewater MD 21037\, 159 Mitchells Chance Rd\, Edgewater\, MD\, 21037
CATEGORIES:Class
ATTACH;FMTTYPE=image/jpeg:https://thetwistedbead.com/wp-content/uploads/2016/07/ILLUSION.jpg
END:VEVENT
END:VCALENDAR