BEGIN:VCALENDAR
VERSION:2.0
PRODID:-//The Twisted Bead and Rock Shop - ECPv6.15.20//NONSGML v1.0//EN
CALSCALE:GREGORIAN
METHOD:PUBLISH
X-ORIGINAL-URL:https://thetwistedbead.com
X-WR-CALDESC:Events for The Twisted Bead and Rock Shop
REFRESH-INTERVAL;VALUE=DURATION:PT1H
X-Robots-Tag:noindex
X-PUBLISHED-TTL:PT1H
BEGIN:VTIMEZONE
TZID:America/New_York
BEGIN:DAYLIGHT
TZOFFSETFROM:-0500
TZOFFSETTO:-0400
TZNAME:EDT
DTSTART:20220313T070000
END:DAYLIGHT
BEGIN:STANDARD
TZOFFSETFROM:-0400
TZOFFSETTO:-0500
TZNAME:EST
DTSTART:20221106T060000
END:STANDARD
BEGIN:DAYLIGHT
TZOFFSETFROM:-0500
TZOFFSETTO:-0400
TZNAME:EDT
DTSTART:20230312T070000
END:DAYLIGHT
BEGIN:STANDARD
TZOFFSETFROM:-0400
TZOFFSETTO:-0500
TZNAME:EST
DTSTART:20231105T060000
END:STANDARD
BEGIN:DAYLIGHT
TZOFFSETFROM:-0500
TZOFFSETTO:-0400
TZNAME:EDT
DTSTART:20240310T070000
END:DAYLIGHT
BEGIN:STANDARD
TZOFFSETFROM:-0400
TZOFFSETTO:-0500
TZNAME:EST
DTSTART:20241103T060000
END:STANDARD
END:VTIMEZONE
BEGIN:VEVENT
DTSTART;TZID=America/New_York:20230408T130000
DTEND;TZID=America/New_York:20230408T143000
DTSTAMP:20260420T225656
CREATED:20230327T163052Z
LAST-MODIFIED:20230327T181033Z
UID:3259-1680958800-1680964200@thetwistedbead.com
SUMMARY:Leather wrap Bracelet Class April 8th from 1pm to 2:30pm
DESCRIPTION:Leather Wrap Bracelet Class\nIn this Leather Wrap Bracelet Class\, you get to create this high-fashion wrap bracelet in the style of Vietnamese designer Chan Luu. Students may use gemstones\, wood/bone\, or glass beads\, and their choice of leather in various sizes and colors. Choose from a single\, double\, or triple wrap bracelet. A single wrap will be finished in class. If you choose to do more than one wrap the bracelet will be completed outside of the allotted class time of 1.5 hours.  Class Fee: $35 + materials
URL:https://thetwistedbead.com/classes-events/leather-wrap-bracelet-class/
LOCATION:The Twisted Bead Design Studio\, 9 Lee Airpark Drive\, Edgewater\, MD\, 21037\, United States
CATEGORIES:Class
ATTACH;FMTTYPE=image/jpeg:https://thetwistedbead.com/wp-content/uploads/2017/01/LEATHER-WRAP-1.jpg
END:VEVENT
BEGIN:VEVENT
DTSTART;TZID=America/New_York:20230429T103000
DTEND;TZID=America/New_York:20230429T120000
DTSTAMP:20260420T225656
CREATED:20230331T193345Z
LAST-MODIFIED:20230421T200830Z
UID:6321-1682764200-1682769600@thetwistedbead.com
SUMMARY:Wire Wrapped Bird Nest class: pendant and earrings\, April 29th\, 10:30
DESCRIPTION:In this wire wrapped bird nest class\, you will learn how to create a beautiful pendant with a matching set of earrings. Using wire and a few beads of your choice you will learn to encapsulate the beads in the wire to create your own bird nest.  Select beads to represent your children\, grandchildren or siblings. Or you can select a variety of beads to match your favorite outfit. No experience is necessary to join this class. \nClass Time 1 hour\, Class Fee $25 + materials (beads of your choice)
URL:https://thetwistedbead.com/classes-events/wire-wrapped-bird-nest-class-pendant-and-earrings/
LOCATION:159 Mitchells Chance Road\, Edgewater MD 21037\, 159 Mitchells Chance Rd\, Edgewater\, MD\, 21037
CATEGORIES:New Class
ATTACH;FMTTYPE=image/jpeg:https://thetwistedbead.com/wp-content/uploads/2023/03/Necklace-on-model-scaled.jpg
END:VEVENT
END:VCALENDAR