BEGIN:VCALENDAR
VERSION:2.0
PRODID:-//The Twisted Bead and Rock Shop - ECPv6.15.20//NONSGML v1.0//EN
CALSCALE:GREGORIAN
METHOD:PUBLISH
X-WR-CALNAME:The Twisted Bead and Rock Shop
X-ORIGINAL-URL:https://thetwistedbead.com
X-WR-CALDESC:Events for The Twisted Bead and Rock Shop
REFRESH-INTERVAL;VALUE=DURATION:PT1H
X-Robots-Tag:noindex
X-PUBLISHED-TTL:PT1H
BEGIN:VTIMEZONE
TZID:America/New_York
BEGIN:DAYLIGHT
TZOFFSETFROM:-0500
TZOFFSETTO:-0400
TZNAME:EDT
DTSTART:20220313T070000
END:DAYLIGHT
BEGIN:STANDARD
TZOFFSETFROM:-0400
TZOFFSETTO:-0500
TZNAME:EST
DTSTART:20221106T060000
END:STANDARD
BEGIN:DAYLIGHT
TZOFFSETFROM:-0500
TZOFFSETTO:-0400
TZNAME:EDT
DTSTART:20230312T070000
END:DAYLIGHT
BEGIN:STANDARD
TZOFFSETFROM:-0400
TZOFFSETTO:-0500
TZNAME:EST
DTSTART:20231105T060000
END:STANDARD
BEGIN:DAYLIGHT
TZOFFSETFROM:-0500
TZOFFSETTO:-0400
TZNAME:EDT
DTSTART:20240310T070000
END:DAYLIGHT
BEGIN:STANDARD
TZOFFSETFROM:-0400
TZOFFSETTO:-0500
TZNAME:EST
DTSTART:20241103T060000
END:STANDARD
END:VTIMEZONE
BEGIN:VEVENT
DTSTART;TZID=America/New_York:20230218T100000
DTEND;TZID=America/New_York:20230218T150000
DTSTAMP:20260421T214615
CREATED:20230210T192820Z
LAST-MODIFIED:20230209T122857Z
UID:5408-1676714400-1676732400@thetwistedbead.com
SUMMARY:Aura Light Photography\, February 18th\, 10am-3pm
DESCRIPTION:Aura Photography event at The Twisted Bead and Rock Shop. Whether you desire a one-on-one session or the fun of enjoying sharing among a group of family and friends\, the insights and ah-ha moments are both powerful and empowering.\nAn Aura session includes a short pretalk about our Chakra and Aura energies\, followed by a hand sensor energy scan which creates a full-color printout. We will discuss the colors\, charts\, and graphs from an intuitive perspective then you will also receive an email containing your scanned pic and a multiple-page analysis generated by the software. Cost is $40\n410 956 5529\nAppointments are available Walk-ins welcome
URL:https://thetwistedbead.com/classes-events/aura-light-photography-event-at-the-twisted-bead-rock-shop/
LOCATION:159 Mitchells Chance Road\, Edgewater MD 21037\, 159 Mitchells Chance Rd\, Edgewater\, MD\, 21037
CATEGORIES:Special Event
ATTACH;FMTTYPE=image/jpeg:https://thetwistedbead.com/wp-content/uploads/2021/09/aura-photo-.jpg
END:VEVENT
BEGIN:VEVENT
DTSTART;TZID=America/New_York:20230225T130000
DTEND;TZID=America/New_York:20230225T143000
DTSTAMP:20260421T214615
CREATED:20221017T154822Z
LAST-MODIFIED:20230209T121813Z
UID:6080-1677330000-1677335400@thetwistedbead.com
SUMMARY:Chakra Introduction Workshop\, February 25th at 1pm
DESCRIPTION:In this Chakra Introduction workshop\, we will go over the 7 westernized chakras\, learning how to connect with/identify/heal/direct them. We will talk about the origins of chakras and other related belief systems. Along with this\, we will talk about crystals that are great for targeting a specific chakra and do some exercises to practice recognition/feeling each energy center. You will leave with a note packet and 2 clear quartz points! Call to join/schedule a workshop with us! 410-956-5529 \nApproximate class time: 1-1.5 hours \nCost: $30.00
URL:https://thetwistedbead.com/classes-events/chakra-introduction-workshop/
LOCATION:159 Mitchells Chance Road\, Edgewater MD 21037\, 159 Mitchells Chance Rd\, Edgewater\, MD\, 21037
CATEGORIES:Class
ATTACH;FMTTYPE=image/jpeg:https://thetwistedbead.com/wp-content/uploads/2022/04/chakra-stick-with-stones-1-1-scaled.jpg
END:VEVENT
BEGIN:VEVENT
DTSTART;TZID=America/New_York:20230225T153000
DTEND;TZID=America/New_York:20230225T170000
DTSTAMP:20260421T214615
CREATED:20230109T175743Z
LAST-MODIFIED:20230222T002022Z
UID:6198-1677339000-1677344400@thetwistedbead.com
SUMMARY:Sound Bath Healing Event February 25th at 3:30pm
DESCRIPTION:Sound bath healing event: Join us for an intimate healing setting for a personalized sound bath experience. Jackie Kenedy is a trained sound healer who also specializes in intuitive reading and energy healing practices. Come release tension and stress in a peaceful auric bubble within the crystal heart space of the Twisted Bead!\nThere will be an opening meditation before the immersion of the crystal bowl tones washing away all unwanted energies\, followed by deeper aura cleansing with a handheld Himalayan bowl for each person present.\nThe event will be closed out with a short meditation to set the tone for the rest of your week/month/new year.\nFeel free to bring blankets\, pillows\, a yoga mat… whatever makes you feel most comfortable\, we will also have chairs available for seating if preferred!\nThis sound bath session will last about 1.5 hour\, depending on the number of participants. \nThis healing experience is $19.00 per person. \nThis event does have a maximum capacity of 20 people so reserve your spot by giving us a call at 410-956-5529. \n 
URL:https://thetwistedbead.com/classes-events/sound-bath-healing-event/
LOCATION:159 Mitchells Chance Road\, Edgewater MD 21037\, 159 Mitchells Chance Rd\, Edgewater\, MD\, 21037
ATTACH;FMTTYPE=image/jpeg:https://thetwistedbead.com/wp-content/uploads/2023/01/2-princess-pic-.jpg
END:VEVENT
END:VCALENDAR