BEGIN:VCALENDAR
VERSION:2.0
PRODID:-//The Twisted Bead and Rock Shop - ECPv6.15.20//NONSGML v1.0//EN
CALSCALE:GREGORIAN
METHOD:PUBLISH
X-ORIGINAL-URL:https://thetwistedbead.com
X-WR-CALDESC:Events for The Twisted Bead and Rock Shop
REFRESH-INTERVAL;VALUE=DURATION:PT1H
X-Robots-Tag:noindex
X-PUBLISHED-TTL:PT1H
BEGIN:VTIMEZONE
TZID:America/New_York
BEGIN:DAYLIGHT
TZOFFSETFROM:-0500
TZOFFSETTO:-0400
TZNAME:EDT
DTSTART:20210314T070000
END:DAYLIGHT
BEGIN:STANDARD
TZOFFSETFROM:-0400
TZOFFSETTO:-0500
TZNAME:EST
DTSTART:20211107T060000
END:STANDARD
BEGIN:DAYLIGHT
TZOFFSETFROM:-0500
TZOFFSETTO:-0400
TZNAME:EDT
DTSTART:20220313T070000
END:DAYLIGHT
BEGIN:STANDARD
TZOFFSETFROM:-0400
TZOFFSETTO:-0500
TZNAME:EST
DTSTART:20221106T060000
END:STANDARD
BEGIN:DAYLIGHT
TZOFFSETFROM:-0500
TZOFFSETTO:-0400
TZNAME:EDT
DTSTART:20230312T070000
END:DAYLIGHT
BEGIN:STANDARD
TZOFFSETFROM:-0400
TZOFFSETTO:-0500
TZNAME:EST
DTSTART:20231105T060000
END:STANDARD
END:VTIMEZONE
BEGIN:VEVENT
DTSTART;TZID=America/New_York:20220513T150000
DTEND;TZID=America/New_York:20220513T163000
DTSTAMP:20260424T031203
CREATED:20220502T155049Z
LAST-MODIFIED:20220506T152724Z
UID:5928-1652454000-1652459400@thetwistedbead.com
SUMMARY:Let's Talk Tarot Workshop with Cristal Rae May 13th at 3pm
DESCRIPTION:The Tarot and the Major Arcana \n\nAre you interested in learning more about the Tarot? This workshop will explore the Major Arcana in the Tarot beginning with the Fool Card. Please bring a Tarot deck of your choice and an open mind! A deposit of $25 is required with registration. You can call us at 410-956-5529\, or come into our shop to register.\nCost: $50\nApprox. Time: 90 min
URL:https://thetwistedbead.com/classes-events/lets-talk-tarot-workshop-with-cristal-rae-may-20th-at-3pm/
LOCATION:159 Mitchells Chance Road\, Edgewater MD 21037\, 159 Mitchells Chance Rd\, Edgewater\, MD\, 21037
CATEGORIES:Class,Guest Instructor,New Class
ATTACH;FMTTYPE=image/png:https://thetwistedbead.com/wp-content/uploads/2022/05/Copy-of-Lets-Talk-Tarot.png
END:VEVENT
BEGIN:VEVENT
DTSTART;TZID=America/New_York:20220521T130000
DTEND;TZID=America/New_York:20220521T143000
DTSTAMP:20260424T031203
CREATED:20220420T151918Z
LAST-MODIFIED:20220506T152936Z
UID:5913-1653138000-1653143400@thetwistedbead.com
SUMMARY:Introduction to Gridding Workshop with Lolly on May 21st at 1pm
DESCRIPTION:In this workshop\, you will learn how to put together a crystal grid for numerous occasions/healing purposes. Lolly will take you step-by-step\, teaching you the purpose of a crystal grid\, what crystals work best for certain manifestations\, and how to direct your intention\, visualize\, cleanse\, and incorporate different materials into your grids. You will also be leaving this class with a new crystal! \nApprox Time: 90 min. \nCost: $38
URL:https://thetwistedbead.com/classes-events/introduction-to-gridding-workshop-with-lolly-on-may-7th-at-1pm/
LOCATION:159 Mitchells Chance Road\, Edgewater MD 21037\, 159 Mitchells Chance Rd\, Edgewater\, MD\, 21037
CATEGORIES:Guest Instructor,New Class
ATTACH;FMTTYPE=image/jpeg:https://thetwistedbead.com/wp-content/uploads/2022/04/lollys-class-photo-for-web--scaled.jpg
END:VEVENT
BEGIN:VEVENT
DTSTART;TZID=America/New_York:20220530T110000
DTEND;TZID=America/New_York:20220530T150000
DTSTAMP:20260424T031203
CREATED:20190522T155743Z
LAST-MODIFIED:20220524T202357Z
UID:4068-1653908400-1653922800@thetwistedbead.com
SUMMARY:Memorial Day May 30th\, 11-3pm closed
DESCRIPTION:In celebration The Twisted Bead will be closed Memorial Day. Have a safe and enjoyable time with your family & friends 🙂
URL:https://thetwistedbead.com/classes-events/memorial-day-may-27th-closed/
LOCATION:159 Mitchells Chance Road\, Edgewater MD 21037\, 159 Mitchells Chance Rd\, Edgewater\, MD\, 21037
ATTACH;FMTTYPE=image/jpeg:https://thetwistedbead.com/wp-content/uploads/2021/11/michele-and-mom-cc.jpg
END:VEVENT
END:VCALENDAR