BEGIN:VCALENDAR
VERSION:2.0
PRODID:-//The Twisted Bead and Rock Shop - ECPv6.15.20//NONSGML v1.0//EN
CALSCALE:GREGORIAN
METHOD:PUBLISH
X-WR-CALNAME:The Twisted Bead and Rock Shop
X-ORIGINAL-URL:https://thetwistedbead.com
X-WR-CALDESC:Events for The Twisted Bead and Rock Shop
REFRESH-INTERVAL;VALUE=DURATION:PT1H
X-Robots-Tag:noindex
X-PUBLISHED-TTL:PT1H
BEGIN:VTIMEZONE
TZID:America/New_York
BEGIN:DAYLIGHT
TZOFFSETFROM:-0500
TZOFFSETTO:-0400
TZNAME:EDT
DTSTART:20150308T070000
END:DAYLIGHT
BEGIN:STANDARD
TZOFFSETFROM:-0400
TZOFFSETTO:-0500
TZNAME:EST
DTSTART:20151101T060000
END:STANDARD
BEGIN:DAYLIGHT
TZOFFSETFROM:-0500
TZOFFSETTO:-0400
TZNAME:EDT
DTSTART:20160313T070000
END:DAYLIGHT
BEGIN:STANDARD
TZOFFSETFROM:-0400
TZOFFSETTO:-0500
TZNAME:EST
DTSTART:20161106T060000
END:STANDARD
BEGIN:DAYLIGHT
TZOFFSETFROM:-0500
TZOFFSETTO:-0400
TZNAME:EDT
DTSTART:20170312T070000
END:DAYLIGHT
BEGIN:STANDARD
TZOFFSETFROM:-0400
TZOFFSETTO:-0500
TZNAME:EST
DTSTART:20171105T060000
END:STANDARD
BEGIN:DAYLIGHT
TZOFFSETFROM:-0500
TZOFFSETTO:-0400
TZNAME:EDT
DTSTART:20180311T070000
END:DAYLIGHT
BEGIN:STANDARD
TZOFFSETFROM:-0400
TZOFFSETTO:-0500
TZNAME:EST
DTSTART:20181104T060000
END:STANDARD
BEGIN:DAYLIGHT
TZOFFSETFROM:-0500
TZOFFSETTO:-0400
TZNAME:EDT
DTSTART:20190310T070000
END:DAYLIGHT
BEGIN:STANDARD
TZOFFSETFROM:-0400
TZOFFSETTO:-0500
TZNAME:EST
DTSTART:20191103T060000
END:STANDARD
BEGIN:DAYLIGHT
TZOFFSETFROM:-0500
TZOFFSETTO:-0400
TZNAME:EDT
DTSTART:20200308T070000
END:DAYLIGHT
BEGIN:STANDARD
TZOFFSETFROM:-0400
TZOFFSETTO:-0500
TZNAME:EST
DTSTART:20201101T060000
END:STANDARD
BEGIN:DAYLIGHT
TZOFFSETFROM:-0500
TZOFFSETTO:-0400
TZNAME:EDT
DTSTART:20210314T070000
END:DAYLIGHT
BEGIN:STANDARD
TZOFFSETFROM:-0400
TZOFFSETTO:-0500
TZNAME:EST
DTSTART:20211107T060000
END:STANDARD
BEGIN:DAYLIGHT
TZOFFSETFROM:-0500
TZOFFSETTO:-0400
TZNAME:EDT
DTSTART:20220313T070000
END:DAYLIGHT
BEGIN:STANDARD
TZOFFSETFROM:-0400
TZOFFSETTO:-0500
TZNAME:EST
DTSTART:20221106T060000
END:STANDARD
BEGIN:DAYLIGHT
TZOFFSETFROM:-0500
TZOFFSETTO:-0400
TZNAME:EDT
DTSTART:20230312T070000
END:DAYLIGHT
BEGIN:STANDARD
TZOFFSETFROM:-0400
TZOFFSETTO:-0500
TZNAME:EST
DTSTART:20231105T060000
END:STANDARD
BEGIN:DAYLIGHT
TZOFFSETFROM:-0500
TZOFFSETTO:-0400
TZNAME:EDT
DTSTART:20240310T070000
END:DAYLIGHT
BEGIN:STANDARD
TZOFFSETFROM:-0400
TZOFFSETTO:-0500
TZNAME:EST
DTSTART:20241103T060000
END:STANDARD
END:VTIMEZONE
BEGIN:VEVENT
DTSTART;TZID=America/New_York:20230218T100000
DTEND;TZID=America/New_York:20230218T150000
DTSTAMP:20260422T174403
CREATED:20230210T192820Z
LAST-MODIFIED:20230209T122857Z
UID:5408-1676714400-1676732400@thetwistedbead.com
SUMMARY:Aura Light Photography\, February 18th\, 10am-3pm
DESCRIPTION:Aura Photography event at The Twisted Bead and Rock Shop. Whether you desire a one-on-one session or the fun of enjoying sharing among a group of family and friends\, the insights and ah-ha moments are both powerful and empowering.\nAn Aura session includes a short pretalk about our Chakra and Aura energies\, followed by a hand sensor energy scan which creates a full-color printout. We will discuss the colors\, charts\, and graphs from an intuitive perspective then you will also receive an email containing your scanned pic and a multiple-page analysis generated by the software. Cost is $40\n410 956 5529\nAppointments are available Walk-ins welcome
URL:https://thetwistedbead.com/classes-events/aura-light-photography-event-at-the-twisted-bead-rock-shop/
LOCATION:159 Mitchells Chance Road\, Edgewater MD 21037\, 159 Mitchells Chance Rd\, Edgewater\, MD\, 21037
CATEGORIES:Special Event
ATTACH;FMTTYPE=image/jpeg:https://thetwistedbead.com/wp-content/uploads/2021/09/aura-photo-.jpg
END:VEVENT
BEGIN:VEVENT
DTSTART;VALUE=DATE:20230122
DTEND;VALUE=DATE:20230129
DTSTAMP:20260422T174403
CREATED:20230124T181905Z
LAST-MODIFIED:20230124T181905Z
UID:6222-1674345600-1674950399@thetwistedbead.com
SUMMARY:CHANGE IN STORE HOURS (the week of January 22nd-28th)
DESCRIPTION:We have different hours for this week and this week only\, our regular hours will resume the following week. We apologize for any inconvenience! \nThis week’s hours: \nMonday: 11 am-3 pm \nTuesday: 11 am-4 pm \nWednesday 11 am-4 pm \nThursday: 11 am-4 pm \nFriday: 11 am-4 pm \nSaturday: 11 am- 3 pm \nSunday: Closed
URL:https://thetwistedbead.com/classes-events/change-in-store-hours-the-week-of-january-22nd-28th/
LOCATION:159 Mitchells Chance Road\, Edgewater MD 21037\, 159 Mitchells Chance Rd\, Edgewater\, MD\, 21037
CATEGORIES:Special Event
ATTACH;FMTTYPE=image/jpeg:https://thetwistedbead.com/wp-content/uploads/2021/11/michele-and-mom-cc.jpg
END:VEVENT
BEGIN:VEVENT
DTSTART;VALUE=DATE:20221202
DTEND;VALUE=DATE:20221212
DTSTAMP:20260422T174403
CREATED:20221119T195247Z
LAST-MODIFIED:20221119T195424Z
UID:6135-1669939200-1670803199@thetwistedbead.com
SUMMARY:Muddy Creek Artists Guild "Gifts from the Arts" Pop Up!
DESCRIPTION:December 2nd-4th & December 9th-11th!!
URL:https://thetwistedbead.com/classes-events/muddy-creek-artists-guild-gifts-from-the-arts-pop-up/
LOCATION:Main Street Chopping Center\, mitchells Chance Road\, Edgewater\, MD\, 21037\, United States
CATEGORIES:Holiday Special,Special Event
ATTACH;FMTTYPE=image/jpeg:https://thetwistedbead.com/wp-content/uploads/2022/11/artists-guild-dec-2nd-gifts-from-the-arts.jpg
END:VEVENT
BEGIN:VEVENT
DTSTART;TZID=America/New_York:20220813T110000
DTEND;TZID=America/New_York:20220813T140000
DTSTAMP:20260422T174403
CREATED:20220712T151352Z
LAST-MODIFIED:20220726T155521Z
UID:5980-1660388400-1660399200@thetwistedbead.com
SUMMARY:Live Music on Main St. Saturday\, August 13th\, from 11 am to 2 pm.
DESCRIPTION:Check out our center\, grab some goody bags\, and Spin to Win for prizes!
URL:https://thetwistedbead.com/classes-events/live-music-on-main-st-saturday-july-23-from-11-am-to-2-pm/
LOCATION:159 Mitchells Chance Road\, Edgewater MD 21037\, 159 Mitchells Chance Rd\, Edgewater\, MD\, 21037
CATEGORIES:General,Special Event
ATTACH;FMTTYPE=image/png:https://thetwistedbead.com/wp-content/uploads/2022/07/Copy-of-TPCMS28096-Main-St-Live-Graphic.png
END:VEVENT
BEGIN:VEVENT
DTSTART;TZID=America/New_York:20220813T100000
DTEND;TZID=America/New_York:20220813T140000
DTSTAMP:20260422T174403
CREATED:20220222T165829Z
LAST-MODIFIED:20220729T195815Z
UID:5741-1660384800-1660399200@thetwistedbead.com
SUMMARY:Intuitive Card Readings With Cristal Rae August 13th
DESCRIPTION:We are excited to host  Cristal Rae\, an intuitive card reader with an extensive amount of experience. Cristal will be providing your unique reading in the privacy of our studio one Saturday each month. Each reading will last 45-60 minutes for your self-care investment of $90. \nHer upcoming session is on August 13th \nSession times are:  10:00am\, 11:15am\, 12:45pm\, 2:00pm  \nFor availability\, questions or to sign up please call us at 410-956-5529 or visit us in-store and we will secure your spot! A $45 deposit is required at the time of registration. \nCristal teaches classes in our space as well! Below are the classes she will be offering\, check them out to see if you are interested! \nIntroduction to Tarot Reading:\nAre you interested in the tarot\, oracle cards\, and message decks?  This is a wonderful way to begin the journey to self-care with cards. This workshop will include a blend of meditation\, discussion\, and cards. Learn how to choose and set a deck. Explore ways to explore your intuitive insights with cards. A deck of any kind is recommended\, no experience is necessary.\n\nIntroduction to the Tarot: The Minor Arcana\nAre you interested in learning more about the Tarot?  This workshop includes a blend of meditation\, card reading\, and discussion with a focus on the minor arcana in the tarot. Learn more about numerology and the suits\, what they mean and how to use them in your personal readings. A playing card or Tarot deck is recommended\, no experience is necessary.\n\nIntroduction to the Tarot: The Major Arcana \nDo you want to learn more about the timeless tradition of the Tarot?  This workshop is a wonderful way to explore your intuitive insights\, card reading the self-love journey through the tarot.   Learn more about the Major Arcana beginning with the Fool card. A Tarot Deck is highly recommended for this workshop\, no experience is necessary.\n 
URL:https://thetwistedbead.com/classes-events/intuitive-card-readings-with-cristal-rae-2/
LOCATION:159 Mitchells Chance Road\, Edgewater MD 21037\, 159 Mitchells Chance Rd\, Edgewater\, MD\, 21037
CATEGORIES:Guest Instructor,Special Event
ATTACH;FMTTYPE=image/png:https://thetwistedbead.com/wp-content/uploads/2022/02/Intuitive-Card-Readings-with.png
END:VEVENT
BEGIN:VEVENT
DTSTART;TZID=America/New_York:20220604T100000
DTEND;TZID=America/New_York:20220604T123000
DTSTAMP:20260422T174403
CREATED:20220415T191517Z
LAST-MODIFIED:20220415T203926Z
UID:5898-1654336800-1654345800@thetwistedbead.com
SUMMARY:DOART with Muddy Creek Artist Guild June 4th at 10 am
DESCRIPTION:Click here for more information!
URL:https://thetwistedbead.com/classes-events/doart-with-muddy-creek/
LOCATION:Galesville Community Center 916 Benning Road Galesville MD 20765\, 916 Benning Road\, Galesville\, MD\, 20765\, United States
CATEGORIES:Special Event
ATTACH;FMTTYPE=image/png:https://thetwistedbead.com/wp-content/uploads/2022/04/muddy-creek-logo-.png
END:VEVENT
BEGIN:VEVENT
DTSTART;TZID=America/New_York:20220124T110000
DTEND;TZID=America/New_York:20220130T160000
DTSTAMP:20260422T174403
CREATED:20220121T184053Z
LAST-MODIFIED:20220121T184134Z
UID:5783-1643022000-1643558400@thetwistedbead.com
SUMMARY:CHANGING HOURS!!
DESCRIPTION:Next week due to staffing shortages our hours will be changed\, this is temporary and only for the following week of January 24th to the 30th! \n\n\nHere is next week’s schedule! \n\n\n\nMonday: 11am-3pm\n\n\nTuesday: Closed \n\n\nWednesday: 11am-4pm\n\n\nThursday: Closed\n\n\nFriday: 11am-4pm\n\n\nSaturday: 11am-3pm\n\n\nSunday: Closed\n\n\n\nThank you for all of your support 🙂
URL:https://thetwistedbead.com/classes-events/changing-hours/
LOCATION:MD
CATEGORIES:Special Event
ATTACH;FMTTYPE=image/jpeg:https://thetwistedbead.com/wp-content/uploads/2022/01/logo-.jpeg
END:VEVENT
BEGIN:VEVENT
DTSTART;TZID=America/New_York:20211217T100000
DTEND;TZID=America/New_York:20211219T190000
DTSTAMP:20260422T174403
CREATED:20211022T170322Z
LAST-MODIFIED:20211215T170204Z
UID:5632-1639735200-1639940400@thetwistedbead.com
SUMMARY:Muddy Creek Artist Guild Pop-up Show on MainStreet!
DESCRIPTION:The Muddy Creek Artists Guild will be hosting their “Gifts from the Arts Holiday Show” in the Main Street and South River Colony shopping center! \nThis is a great opportunity to support your community\, meet local artists\, and see some unique art! This is a great time to grab those Christmas and birthday gifts for your friends and loved ones\, we hope to see you there! \nFor more info\, Click Here! \nDates and times for this event:  \n\nFriday Dec 17 -Sunday Dec 19 \nFriday\, December 3\, 10am–7pm \nSaturday\, December 4\, 10am–7pm \nSunday\, December 5\, 11am–5pm \n\n\nFriday\, December 10\, 10am–7pm \nSaturday\, December 11\, 10am–7pm \nSunday\, December 12\, 11am–5pm
URL:https://thetwistedbead.com/classes-events/muddy-creek-artist-guild-pop-up-show-on-mainstreet/
LOCATION:Main Street Chopping Center\, mitchells Chance Road\, Edgewater\, MD\, 21037\, United States
CATEGORIES:Special Event
ATTACH;FMTTYPE=image/jpeg:https://thetwistedbead.com/wp-content/uploads/2021/10/artist-guild-december-pop-up-flier.jpeg
END:VEVENT
BEGIN:VEVENT
DTSTART;TZID=America/New_York:20211016T100000
DTEND;TZID=America/New_York:20211016T143000
DTSTAMP:20260422T174403
CREATED:20211004T191050Z
LAST-MODIFIED:20211011T154706Z
UID:5538-1634378400-1634394600@thetwistedbead.com
SUMMARY:Reiki Session October 16\, 10am-2:20pm
DESCRIPTION:Reiki sessions now being offered in our studio at The Twisted Bead & Rock Shop. \nSession times available are 10am\, 11:30am\, 1pm and 2:30 pm. Your session time is one hour long. Please arrive 10 minutes before your scheduled time. You must call the store to schedule your time. 410-956-5529
URL:https://thetwistedbead.com/classes-events/reiki-sessions-at-the-twisted-bead-rock-shop/
LOCATION:159 Mitchells Chance Road\, Edgewater MD 21037\, 159 Mitchells Chance Rd\, Edgewater\, MD\, 21037
CATEGORIES:Special Event
ATTACH;FMTTYPE=image/jpeg:https://thetwistedbead.com/wp-content/uploads/2021/10/IMG_2085.jpg
END:VEVENT
BEGIN:VEVENT
DTSTART;TZID=America/New_York:20211001T100000
DTEND;TZID=America/New_York:20211001T170000
DTSTAMP:20260422T174403
CREATED:20210922T124732Z
LAST-MODIFIED:20210922T190949Z
UID:5473-1633082400-1633107600@thetwistedbead.com
SUMMARY:Anniversary Event Weekend Oct 1-2
DESCRIPTION:Happy Anniversary! We have come such a long way since we opened in 2010\, growing and learning so much along the way. We are so thankful for all of you Twisted Beader’s and Crystal Lovers who have joined us and stuck by us throughout our journey! To celebrate this year’s anniversary event we want to invite you to come in and share the kick off to another great year. We will be featuring new products release (crystals and beads)\, Aura Light Photography sessions in our studio and free gifts with each purchase. We look forward to seeing you again and also making some new friends.
URL:https://thetwistedbead.com/classes-events/anniversary-event-weekend-oct-1-2/
LOCATION:159 Mitchells Chance Road\, Edgewater MD 21037\, 159 Mitchells Chance Rd\, Edgewater\, MD\, 21037
CATEGORIES:Special Event
ATTACH;FMTTYPE=image/jpeg:https://thetwistedbead.com/wp-content/uploads/2021/09/bracelets-on-selenite-aestheitc-2.jpg
END:VEVENT
BEGIN:VEVENT
DTSTART;TZID=America/New_York:20210111T110000
DTEND;TZID=America/New_York:20210111T150000
DTSTAMP:20260422T174403
CREATED:20210108T200917Z
LAST-MODIFIED:20210108T201648Z
UID:4777-1610362800-1610377200@thetwistedbead.com
SUMMARY:January 11th we will be closed
DESCRIPTION:Happy day here at The Bead. My Mom is getting married and we have some fun planned for her and Steve. \nWe will be back in on Tuesday. Have a fantastic weekend. Be safe.
URL:https://thetwistedbead.com/classes-events/january-11th-we-will-be-closed/
LOCATION:159 Mitchells Chance Road\, Edgewater MD 21037\, 159 Mitchells Chance Rd\, Edgewater\, MD\, 21037
CATEGORIES:Special Event
ATTACH;FMTTYPE=image/jpeg:https://thetwistedbead.com/wp-content/uploads/2018/10/VIOLETS-SUNSET.jpg
END:VEVENT
BEGIN:VEVENT
DTSTART;TZID=America/New_York:20201205T120000
DTEND;TZID=America/New_York:20201205T150000
DTSTAMP:20260422T174403
CREATED:20201120T173114Z
LAST-MODIFIED:20201120T173621Z
UID:4756-1607169600-1607180400@thetwistedbead.com
SUMMARY:Tarot Pop-Up Shoppe\, Dec 5 12-3pm
DESCRIPTION:Tarot Pop-Up Shoppe. Do you have questions about Tarot or Oracle cards? Pop into The Twisted Bead & Rock Shop on December 5\, 12-3pm and visit Kathryn Hall. Kathryn has been reading Tarot for 20+ years and will be here to share her wisdom with you. She will have an wide assortment of cards to share.
URL:https://thetwistedbead.com/classes-events/tarot-pop-up-shoppe-dec-5-12-3pm/
LOCATION:159 Mitchells Chance Road\, Edgewater MD 21037\, 159 Mitchells Chance Rd\, Edgewater\, MD\, 21037
CATEGORIES:Special Event
ATTACH;FMTTYPE=image/jpeg:https://thetwistedbead.com/wp-content/uploads/2020/11/POP-UP-PIC-3.jpg
END:VEVENT
BEGIN:VEVENT
DTSTART;VALUE=DATE:20200714
DTEND;VALUE=DATE:20201015
DTSTAMP:20260422T174403
CREATED:20200323T190044Z
LAST-MODIFIED:20200824T145601Z
UID:4505-1594684800-1602719999@thetwistedbead.com
SUMMARY:Now Open!!
DESCRIPTION:Current Store Hours: \nMonday 11 – 3\, Tuesday 10 – 4\, Wed & Thurs 11 – 4\, Friday 10 – 4\, Saturday 10 – 3 \nYou are welcome to visit under our current shopping guidelines. \n\nFace coverings are required.\nUse hand sanitizer upon entry located on front table.\nFollow social distancing practices.\nWe are limited to the numbers of visitors to seven at any time.\nWe are happy to assist you and look forward to seeing you all again.\nIf you need a time to visit outside of these current hours\, just call us to arrange a time 410-956-5529.\nClasses & Workshops. Due to the current social distancing we are all practicing\, no classes are being held at this time. We will resume those activities as soon as we can.\n\nThank you for all your support\, past\, present and future.  Stay safe & be well.
URL:https://thetwistedbead.com/classes-events/here-is-how-we-can-serve/
LOCATION:159 Mitchells Chance Road\, Edgewater MD 21037\, 159 Mitchells Chance Rd\, Edgewater\, MD\, 21037
CATEGORIES:Special Event
ATTACH;FMTTYPE=image/jpeg:https://thetwistedbead.com/wp-content/uploads/2020/03/NEW-STORE-scaled.jpg
END:VEVENT
BEGIN:VEVENT
DTSTART;TZID=America/New_York:20200123T080000
DTEND;TZID=America/New_York:20201223T170000
DTSTAMP:20260422T174403
CREATED:20200402T164141Z
LAST-MODIFIED:20240606T123844Z
UID:4503-1579766400-1608742800@thetwistedbead.com
SUMMARY:New Store Location: 159 Mitchells Chance Rd\, Edgewater MD
DESCRIPTION:On Jan 25th\, The Twisted Bead & Rock Shop opened at our new larger location. More space for beads & crystals and a separate studio for classes\, birthday parties and workshops. We look forward to seeing you soon.
URL:https://thetwistedbead.com/classes-events/new-store-location-159-mitchells-chance-rd-edgewater-md/
LOCATION:159 Mitchells Chance Road\, Edgewater MD 21037\, 159 Mitchells Chance Rd\, Edgewater\, MD\, 21037
CATEGORIES:Special Event
ATTACH;FMTTYPE=image/jpeg:https://thetwistedbead.com/wp-content/uploads/2020/04/NEW-STORE-FRONT-scaled.jpg
END:VEVENT
BEGIN:VEVENT
DTSTART;TZID=America/New_York:20191103T110000
DTEND;TZID=America/New_York:20191103T180000
DTSTAMP:20260422T174403
CREATED:20191021T130910Z
LAST-MODIFIED:20191021T133145Z
UID:4416-1572778800-1572804000@thetwistedbead.com
SUMMARY:Illuminate Baltimore Nov 3\, 11-6
DESCRIPTION:Join us at  Illuminate Baltimore wellness expo Delta Hotel (Sheraton)\, Hunt Valley Nov 3\, 11-6 \nE X P L O R E aisles filled with practitioners & vendors to sample a range of holistic services. \nI N D U L G E in mini-sessions of modern and ancient modalities to enhance your sense of well-being. \nC O N N E C T with experienced and respected holistic practitioners. \nF I N D unique\, beautiful gifts\, as well as local and natural personal and household products\, too!
URL:https://thetwistedbead.com/classes-events/illuminate-baltimore-nov-3-11-6/
LOCATION:Delta Hotel\, Hunt Valley MD\, 245 Shawan Road\, Hunt Valley\, MD\, 21031\, United States
CATEGORIES:Special Event
ATTACH;FMTTYPE=image/jpeg:https://thetwistedbead.com/wp-content/uploads/2019/10/ILLUMINATE-BALTIMORE-HEADER.jpg
END:VEVENT
BEGIN:VEVENT
DTSTART;TZID=America/New_York:20191102T110000
DTEND;TZID=America/New_York:20191102T180000
DTSTAMP:20260422T174403
CREATED:20191021T125639Z
LAST-MODIFIED:20191021T125639Z
UID:4413-1572692400-1572717600@thetwistedbead.com
SUMMARY:Illuminate Annapolis Nov 2\, 11-6
DESCRIPTION:Come to Illuminate Annapolis wellness expo At Anne Arundel Community College Nov 2\, 11-6 \nE X P L O R E aisles filled with practitioners & vendors to sample a range of holistic services. \nI N D U L G E in mini-sessions of modern and ancient modalities to enhance your sense of well-being. \nC O N N E C T with experienced and respected holistic practitioners. \nF I N D unique\, beautiful gifts\, as well as local and natural personal and household products\, too!
URL:https://thetwistedbead.com/classes-events/illuminate-annapolis-nov-2-11-6/
LOCATION:Anne Arundel Community College\, 101 College Parkway\, Arnold\, MD\, 21012\, United States
CATEGORIES:Special Event
ATTACH;FMTTYPE=image/jpeg:https://thetwistedbead.com/wp-content/uploads/2019/10/ILLUMINATE-IMAGE-2.jpg
END:VEVENT
BEGIN:VEVENT
DTSTART;TZID=America/New_York:20190713T110000
DTEND;TZID=America/New_York:20190713T180000
DTSTAMP:20260422T174403
CREATED:20171111T213949Z
LAST-MODIFIED:20190626T183305Z
UID:3976-1563015600-1563040800@thetwistedbead.com
SUMMARY:Illuminate Annapolis\, July 13\, 11am-6pm
DESCRIPTION:illuminate annapolis event  \nTreat yourself to a day of wellness at Illuminate Annapolis\, Anne Arundel Community College. See link for details
URL:https://thetwistedbead.com/classes-events/illuminate-annapolis-nov-12th-11am-6pm/
LOCATION:Anne Arundel Community College\, 101 College Parkway\, Arnold\, MD\, 21012\, United States
CATEGORIES:Special Event
ATTACH;FMTTYPE=image/png:https://thetwistedbead.com/wp-content/uploads/2017/11/illuminateFestivalsWebBannerWithArts-e1561573862759.png
END:VEVENT
BEGIN:VEVENT
DTSTART;TZID=America/New_York:20181206T180000
DTEND;TZID=America/New_York:20181206T193000
DTSTAMP:20260422T174403
CREATED:20161208T224120Z
LAST-MODIFIED:20181120T192305Z
UID:3218-1544119200-1544124600@thetwistedbead.com
SUMMARY:Girl Scout Troop Jewelry Badge
DESCRIPTION:Girl scouts\, learn to make jewelry and earn your girl scout jewelry badge.  Basic wire wrapping\, Kumihimo or Ice resin are great group projects or we can customize a specific lesson to suite your badge requirements. Our studio can accommodate about 20 individuals. You are welcome to bring a snack and beverage. A $25 deposit is required at the time you make the reservation. Group discount will apply.  Please call us to schedule and discuss the details for your event. 410-956-5529 \n 
URL:https://thetwistedbead.com/classes-events/girl-scout-troop-beading-badge/
LOCATION:The Twisted Bead Design Studio\, 9 Lee Airpark Drive\, Edgewater\, MD\, 21037\, United States
CATEGORIES:Private Party,Special Event
ATTACH;FMTTYPE=image/jpeg:https://thetwistedbead.com/wp-content/uploads/2013/07/KUMIHIMO.jpg
END:VEVENT
BEGIN:VEVENT
DTSTART;TZID=America/New_York:20181020T110000
DTEND;TZID=America/New_York:20181020T180000
DTSTAMP:20260422T174403
CREATED:20180627T175140Z
LAST-MODIFIED:20181004T161030Z
UID:4090-1540033200-1540058400@thetwistedbead.com
SUMMARY:Illuminate Frederick Oct 20\, 11-6
DESCRIPTION:E X P L O R E aisles filled with practitioners & vendors to sample a range of holistic services.\nI N D U L G E in mini-sessions of modern and ancient modalities to enhance your sense of well-being.\nC O N N E C T with experienced and respected holistic practitioners.\nF I N D unique\, beautiful gifts\, as well as local and natural personal and household products\, too! \n 
URL:https://thetwistedbead.com/classes-events/illuminate-annapolis-july-14-11-6/
LOCATION:clarion inn event center\, 5400 Holiday Drive\, Frederick\, MD\, 21703\, United States
CATEGORIES:Special Event
ATTACH;FMTTYPE=image/jpeg:https://thetwistedbead.com/wp-content/uploads/2018/06/Illuminate-Frederick-small-e1538060962182.jpg
END:VEVENT
BEGIN:VEVENT
DTSTART;VALUE=DATE:20181005
DTEND;VALUE=DATE:20181009
DTSTAMP:20260422T174403
CREATED:20181004T155914Z
LAST-MODIFIED:20181004T161213Z
UID:4120-1538697600-1539043199@thetwistedbead.com
SUMMARY:KarmaFest The Gathering Oct 5-8\, 2018
DESCRIPTION:Local gathering right here in our backyard.  Well just about. The Patuxent 4-H is located just down route 214 about 10 miles from The Twisted Bead. Check out their website if you are looking for something to do this holiday weekend.
URL:https://thetwistedbead.com/classes-events/karmafest-the-gathering-oct-5-8-2018/
LOCATION:Patuxent 4-H\, Upper Marlboro\, MD
CATEGORIES:Special Event
ATTACH;FMTTYPE=image/jpeg:https://thetwistedbead.com/wp-content/uploads/2018/10/karmafest-the-gathering-final-poster-618x800.jpg
END:VEVENT
BEGIN:VEVENT
DTSTART;TZID=America/New_York:20180325T100000
DTEND;TZID=America/New_York:20180325T190000
DTSTAMP:20260422T174403
CREATED:20180322T182951Z
LAST-MODIFIED:20180322T183226Z
UID:4027-1521972000-1522004400@thetwistedbead.com
SUMMARY:Natural Living Expo\, March 25 College Park Marriott
DESCRIPTION:2018 Natural Living Expo \nEnjoy 150 Exhibitors Who Heal\, Entertain\, Enlighten and Offer Lots Of Wonderful Products.\nChoose From 56 Dynamic\, Creative Mind\, Body\, Spirit Workshops\nAll Included in the $10 price of admission (with coupon)\nCollege Park Marriott Hotel & Conference Center\,\n3501 University Blvd.\, East\, Hyattsville\, MD 20783\nWe are back on the University of Maryland Campus! • Free Indoor Parking
URL:https://thetwistedbead.com/classes-events/natural-living-expo-march-25/
LOCATION:MD
CATEGORIES:Special Event
ATTACH;FMTTYPE=image/jpeg:https://thetwistedbead.com/wp-content/uploads/2018/03/qtq80-LO6jBB.jpeg
END:VEVENT
BEGIN:VEVENT
DTSTART;TZID=America/New_York:20160809T100000
DTEND;TZID=America/New_York:20160811T113000
DTSTAMP:20260422T174403
CREATED:20160726T000110Z
LAST-MODIFIED:20160726T000110Z
UID:2952-1470736800-1470915000@thetwistedbead.com
SUMMARY:Summer Camps Grades 3-5
DESCRIPTION:Campers will encase small objects with Ice Resin encapsulating them forever in a wearable piece of art. Each camper should bring an assortment of tiny treasures to include in their two pendants.* Campers will then learn how to braid a Kumihimo necklace for their pendants using rattail cord and a braiding disk. Campers will design and string their own beaded bracelet or anklet with a clasp. \n* Tiny treasures for Ice Resin may be photos\, beads\, crystals\, glass\, glitter\, sequins\, ribbon\, buttons\, dried flowers\, leaves\, grass\, four leaf clovers\, twigs\, sand\, shells\, pearls\, pebbles\, feathers\, hair\, metal\, wire\, screws\, nuts\, watch parts\, keys\, and more. \nSession Two: August 9-11\nTime: 10:00AM – 11:30AM\nCost $120 / All materials included
URL:https://thetwistedbead.com/classes-events/summer-camps-grades-3-5/
LOCATION:MD
CATEGORIES:Special Event
END:VEVENT
END:VCALENDAR