BEGIN:VCALENDAR
VERSION:2.0
PRODID:-//The Twisted Bead and Rock Shop - ECPv6.15.20//NONSGML v1.0//EN
CALSCALE:GREGORIAN
METHOD:PUBLISH
X-WR-CALNAME:The Twisted Bead and Rock Shop
X-ORIGINAL-URL:https://thetwistedbead.com
X-WR-CALDESC:Events for The Twisted Bead and Rock Shop
REFRESH-INTERVAL;VALUE=DURATION:PT1H
X-Robots-Tag:noindex
X-PUBLISHED-TTL:PT1H
BEGIN:VTIMEZONE
TZID:America/New_York
BEGIN:DAYLIGHT
TZOFFSETFROM:-0500
TZOFFSETTO:-0400
TZNAME:EDT
DTSTART:20160313T070000
END:DAYLIGHT
BEGIN:STANDARD
TZOFFSETFROM:-0400
TZOFFSETTO:-0500
TZNAME:EST
DTSTART:20161106T060000
END:STANDARD
BEGIN:DAYLIGHT
TZOFFSETFROM:-0500
TZOFFSETTO:-0400
TZNAME:EDT
DTSTART:20170312T070000
END:DAYLIGHT
BEGIN:STANDARD
TZOFFSETFROM:-0400
TZOFFSETTO:-0500
TZNAME:EST
DTSTART:20171105T060000
END:STANDARD
BEGIN:DAYLIGHT
TZOFFSETFROM:-0500
TZOFFSETTO:-0400
TZNAME:EDT
DTSTART:20180311T070000
END:DAYLIGHT
BEGIN:STANDARD
TZOFFSETFROM:-0400
TZOFFSETTO:-0500
TZNAME:EST
DTSTART:20181104T060000
END:STANDARD
BEGIN:DAYLIGHT
TZOFFSETFROM:-0500
TZOFFSETTO:-0400
TZNAME:EDT
DTSTART:20190310T070000
END:DAYLIGHT
BEGIN:STANDARD
TZOFFSETFROM:-0400
TZOFFSETTO:-0500
TZNAME:EST
DTSTART:20191103T060000
END:STANDARD
BEGIN:DAYLIGHT
TZOFFSETFROM:-0500
TZOFFSETTO:-0400
TZNAME:EDT
DTSTART:20200308T070000
END:DAYLIGHT
BEGIN:STANDARD
TZOFFSETFROM:-0400
TZOFFSETTO:-0500
TZNAME:EST
DTSTART:20201101T060000
END:STANDARD
END:VTIMEZONE
BEGIN:VEVENT
DTSTART;TZID=America/New_York:20191119T103000
DTEND;TZID=America/New_York:20191119T113000
DTSTAMP:20260423T035010
CREATED:20191029T173307Z
LAST-MODIFIED:20191108T180933Z
UID:4427-1574159400-1574163000@thetwistedbead.com
SUMMARY:Private One-on-One Instruction November 19\, 10:30
DESCRIPTION:Private instruction: Need individual instruction for a special project or to learn a technique? We can probably help you. Schedule one-on-one instruction time with one of our instructors. This is a per hour charge of $30 per hour.
URL:https://thetwistedbead.com/classes-events/private-one-on-one-instruction-november-19-1030/
LOCATION:The Twisted Bead Design Studio\, 9 Lee Airpark Drive\, Edgewater\, MD\, 21037\, United States
CATEGORIES:New Class
ATTACH;FMTTYPE=image/jpeg:https://thetwistedbead.com/wp-content/uploads/2017/06/iceresinShop.jpg
END:VEVENT
BEGIN:VEVENT
DTSTART;TZID=America/New_York:20181207T103000
DTEND;TZID=America/New_York:20181207T120000
DTSTAMP:20260423T035010
CREATED:20181120T222427Z
LAST-MODIFIED:20181121T162015Z
UID:4164-1544178600-1544184000@thetwistedbead.com
SUMMARY:DiamonDuo Star stitching class Dec 7\, 10:30am
DESCRIPTION:Thank you to  Deb Roberti for allowing us to teach her DiamonDuo Star design.  Select from our new Gem Duo beads and create this fun pendant\, earrings or holiday decoration. Some stitching experience is helpful. Class time: approximately 1.5 hours\, Class Fee: $22 + materials
URL:https://thetwistedbead.com/classes-events/diamonduo-star-stitching-class-dec-7-1030am/
LOCATION:The Twisted Bead Design Studio\, 9 Lee Airpark Drive\, Edgewater\, MD\, 21037\, United States
CATEGORIES:New Class
ATTACH;FMTTYPE=image/jpeg:https://thetwistedbead.com/wp-content/uploads/2018/11/GEM-DUO-STAR-e1542751780470-scaled.jpg
END:VEVENT
BEGIN:VEVENT
DTSTART;TZID=America/New_York:20180728T103000
DTEND;TZID=America/New_York:20180728T120000
DTSTAMP:20260423T035010
CREATED:20180502T211405Z
LAST-MODIFIED:20180718T193820Z
UID:4048-1532773800-1532779200@thetwistedbead.com
SUMMARY:Peyote Stitch on Carrier Beads July 28\, 10:30am
DESCRIPTION:If you are a stitching fan of Jill Wiseman\, you will know that Carrier Beads are “all the rage” right now. In this bead weaving class you will learn how to make the peyote stitch strips to cover the carrier beads. You will learn how to read a chart and maybe even create your own design! General knowledge of peyote stitch is required.  Class length: 1-1.5 hours. Class Fee: $25 + your choice of materials
URL:https://thetwistedbead.com/classes-events/peyote-stitch-w-carrier-beads/
LOCATION:The Twisted Bead Design Studio\, 9 Lee Airpark Drive\, Edgewater\, MD\, 21037\, United States
CATEGORIES:New Class
ATTACH;FMTTYPE=image/jpeg:https://thetwistedbead.com/wp-content/uploads/2018/05/CARRIER-BEAD-JEWELRY-1.jpg
END:VEVENT
BEGIN:VEVENT
DTSTART;TZID=America/New_York:20170826T150000
DTEND;TZID=America/New_York:20170826T163000
DTSTAMP:20260423T035010
CREATED:20170807T143240Z
LAST-MODIFIED:20170807T143502Z
UID:3908-1503759600-1503765000@thetwistedbead.com
SUMMARY:Paint & Pour Class Aug 26\, 3pm
DESCRIPTION:Paint & Pour Class: Think you aren’t crafty! Come join us for a paint pouring class. It’s lots of fun and you’ll go home with two unique pieces of art. Class time is 1.5 hours. Class fee is $22.50 and includes materials. Please call us to register for this class. Space is limited. Recommended to not wear your best clothes as you will be working with paint!
URL:https://thetwistedbead.com/classes-events/paint-pour-class-aug-26-3pm/
LOCATION:The Twisted Bead Design Studio\, 9 Lee Airpark Drive\, Edgewater\, MD\, 21037\, United States
CATEGORIES:New Class
ATTACH;FMTTYPE=image/jpeg:https://thetwistedbead.com/wp-content/uploads/2017/08/ORANGE-TILE.jpg
END:VEVENT
BEGIN:VEVENT
DTSTART;TZID=America/New_York:20170809T180000
DTEND;TZID=America/New_York:20170809T193000
DTSTAMP:20260423T035010
CREATED:20170807T142817Z
LAST-MODIFIED:20170807T143423Z
UID:3905-1502301600-1502307000@thetwistedbead.com
SUMMARY:Paint & Pour Class Aug 9\, 6pm
DESCRIPTION:Paint & Pour Class: Think you aren’t crafty? Come join us for a paint pouring class. It’s lots of fun and you’ll go home with two unique pieces of art. Class time is 1.5 hours. Class fee is $22.50 and includes materials. Please call us to register for this class. Space is limited. Recommended to not wear your best clothes as you will be working with paint!
URL:https://thetwistedbead.com/classes-events/paint-pour-class-aug-9-6pm/
LOCATION:The Twisted Bead Design Studio\, 9 Lee Airpark Drive\, Edgewater\, MD\, 21037\, United States
CATEGORIES:New Class
ATTACH;FMTTYPE=image/jpeg:https://thetwistedbead.com/wp-content/uploads/2017/08/SIZE-THENCROP.jpeg
END:VEVENT
BEGIN:VEVENT
DTSTART;TZID=America/New_York:20170324T140000
DTEND;TZID=America/New_York:20170324T163000
DTSTAMP:20260423T035010
CREATED:20170320T123758Z
LAST-MODIFIED:20170320T125834Z
UID:3296-1490364000-1490373000@thetwistedbead.com
SUMMARY:Cold Connections Level 2
DESCRIPTION:Guest Instructor: Mike Dennis \nCold Connections Level  2:  This class builds off information learned in Mike’s level 1 class using more complicated techniques and finishes.  Class will include but not be limited to folding\, making jump rings (using jewelers saw)\, different riveting techniques\, texturing and more complex assembling of pieces. You are encouraged to bring at least one project you are working on or would like to do that requires  the “how do I put this thing together now?”  Design is one aspect of jewelry making\, how to put it together is a whole other ball of wax! \nCompletion of the Level 1 cold connections class and some experience working with jewelry tools is encouraged. You will bring your own tools to class. Tool and material lists will be provided at time of registration. \nClass Time:  2 1/2 hours. Cost $48
URL:https://thetwistedbead.com/classes-events/cold-connections-level-2/
LOCATION:The Twisted Bead Design Studio\, 9 Lee Airpark Drive\, Edgewater\, MD\, 21037\, United States
CATEGORIES:Guest Instructor,New Class
ATTACH;FMTTYPE=image/jpeg:https://thetwistedbead.com/wp-content/uploads/2017/01/COLD-CONNECTIONS.jpg
END:VEVENT
BEGIN:VEVENT
DTSTART;TZID=America/New_York:20170324T100000
DTEND;TZID=America/New_York:20170324T123000
DTSTAMP:20260423T035010
CREATED:20170111T221428Z
LAST-MODIFIED:20170302T194124Z
UID:3253-1490349600-1490358600@thetwistedbead.com
SUMMARY:Working with Metal and Cold Connections
DESCRIPTION:Unique Designs by artist Michael Dennis \nWe are so pleased to have local artist Michael Dennis to teach us how to create using cold connections and metal. Learn to use rivets\, eyelets and jump rings with the appropriate tools. Cut your metal\, texture and apply a patina to your finished piece. Discussions to include various metal finishing and texturing techniques . We will provide tools for your use or you are welcome to bring your own.  Class size is limited.  Please call to register. Class Fee: $40 + kit \nClass Time: 2.5 hours
URL:https://thetwistedbead.com/classes-events/working-metal-cold-connections/
LOCATION:The Twisted Bead Design Studio\, 9 Lee Airpark Drive\, Edgewater\, MD\, 21037\, United States
CATEGORIES:Guest Instructor,New Class
ATTACH;FMTTYPE=image/jpeg:https://thetwistedbead.com/wp-content/uploads/2017/01/COLD-CONNECTIONS.jpg
END:VEVENT
END:VCALENDAR