BEGIN:VCALENDAR
VERSION:2.0
PRODID:-//The Twisted Bead and Rock Shop - ECPv6.15.20//NONSGML v1.0//EN
CALSCALE:GREGORIAN
METHOD:PUBLISH
X-ORIGINAL-URL:https://thetwistedbead.com
X-WR-CALDESC:Events for The Twisted Bead and Rock Shop
REFRESH-INTERVAL;VALUE=DURATION:PT1H
X-Robots-Tag:noindex
X-PUBLISHED-TTL:PT1H
BEGIN:VTIMEZONE
TZID:America/New_York
BEGIN:DAYLIGHT
TZOFFSETFROM:-0500
TZOFFSETTO:-0400
TZNAME:EDT
DTSTART:20220313T070000
END:DAYLIGHT
BEGIN:STANDARD
TZOFFSETFROM:-0400
TZOFFSETTO:-0500
TZNAME:EST
DTSTART:20221106T060000
END:STANDARD
BEGIN:DAYLIGHT
TZOFFSETFROM:-0500
TZOFFSETTO:-0400
TZNAME:EDT
DTSTART:20230312T070000
END:DAYLIGHT
BEGIN:STANDARD
TZOFFSETFROM:-0400
TZOFFSETTO:-0500
TZNAME:EST
DTSTART:20231105T060000
END:STANDARD
BEGIN:DAYLIGHT
TZOFFSETFROM:-0500
TZOFFSETTO:-0400
TZNAME:EDT
DTSTART:20240310T070000
END:DAYLIGHT
BEGIN:STANDARD
TZOFFSETFROM:-0400
TZOFFSETTO:-0500
TZNAME:EST
DTSTART:20241103T060000
END:STANDARD
END:VTIMEZONE
BEGIN:VEVENT
DTSTART;TZID=America/New_York:20230317T110000
DTEND;TZID=America/New_York:20230317T130000
DTSTAMP:20260421T201318
CREATED:20230310T152759Z
LAST-MODIFIED:20230310T162834Z
UID:3060-1679050800-1679058000@thetwistedbead.com
SUMMARY:Almost a Bangle Bracelet Stitch Class on March 17 at 11am
DESCRIPTION:In this stitch class\, make this beautiful\, almost a bangle stitched bracelet using Super-Duos\, Preciosa crystals\, Size 11 and 15 seed beads. Select colors and clasp of your choice. Requires some stitching experience. Class Time: 2 hours Class Fee: $30.00 + materials\, Instructor: Erika Pross\nOriginal Design by Jill Wiseman
URL:https://thetwistedbead.com/classes-events/almost-a-bangle-stitch-class/
LOCATION:The Twisted Bead & Rock Shop\, 159 Mitchell's Chance Road\, Edgewater\, MD\, 21037
CATEGORIES:Class
ATTACH;FMTTYPE=image/jpeg:https://thetwistedbead.com/wp-content/uploads/2016/08/ALMOST-A-BANGLE-GOOD-ONE.jpg
END:VEVENT
END:VCALENDAR