BEGIN:VCALENDAR
VERSION:2.0
PRODID:-//The Twisted Bead and Rock Shop - ECPv6.15.20//NONSGML v1.0//EN
CALSCALE:GREGORIAN
METHOD:PUBLISH
X-ORIGINAL-URL:https://thetwistedbead.com
X-WR-CALDESC:Events for The Twisted Bead and Rock Shop
REFRESH-INTERVAL;VALUE=DURATION:PT1H
X-Robots-Tag:noindex
X-PUBLISHED-TTL:PT1H
BEGIN:VTIMEZONE
TZID:America/New_York
BEGIN:DAYLIGHT
TZOFFSETFROM:-0500
TZOFFSETTO:-0400
TZNAME:EDT
DTSTART:20200308T070000
END:DAYLIGHT
BEGIN:STANDARD
TZOFFSETFROM:-0400
TZOFFSETTO:-0500
TZNAME:EST
DTSTART:20201101T060000
END:STANDARD
BEGIN:DAYLIGHT
TZOFFSETFROM:-0500
TZOFFSETTO:-0400
TZNAME:EDT
DTSTART:20210314T070000
END:DAYLIGHT
BEGIN:STANDARD
TZOFFSETFROM:-0400
TZOFFSETTO:-0500
TZNAME:EST
DTSTART:20211107T060000
END:STANDARD
BEGIN:DAYLIGHT
TZOFFSETFROM:-0500
TZOFFSETTO:-0400
TZNAME:EDT
DTSTART:20220313T070000
END:DAYLIGHT
BEGIN:STANDARD
TZOFFSETFROM:-0400
TZOFFSETTO:-0500
TZNAME:EST
DTSTART:20221106T060000
END:STANDARD
END:VTIMEZONE
BEGIN:VEVENT
DTSTART;TZID=America/New_York:20211204T100000
DTEND;TZID=America/New_York:20211204T120000
DTSTAMP:20260424T145020
CREATED:20211108T181351Z
LAST-MODIFIED:20211119T195504Z
UID:5722-1638612000-1638619200@thetwistedbead.com
SUMMARY:Snowflake Earrings Class\, Dec 4 10am
DESCRIPTION:Join our snowflake earrings class to make a sweet holiday gift or just to get creative during the holiday season! This stitching class is beginner-friendly. You’re welcome to get together a small group\, or join in on the fun with an existing class. Tis’ the season to start beading!  Give us a call or come in-store to let us know if you would like to schedule a class! \nClass Fee: $30\, (a kit will be provided with everything needed) \nAverage Class Time: 1.5 to 2 hours \nReserve your class today!
URL:https://thetwistedbead.com/classes-events/snowflake-earrings-class/
LOCATION:159 Mitchells Chance Road\, Edgewater MD 21037\, 159 Mitchells Chance Rd\, Edgewater\, MD\, 21037
CATEGORIES:New Class
ATTACH;FMTTYPE=image/jpeg:https://thetwistedbead.com/wp-content/uploads/2021/11/snowflake-earring-class-scaled.jpg
END:VEVENT
END:VCALENDAR