BEGIN:VCALENDAR
VERSION:2.0
PRODID:-//The Twisted Bead and Rock Shop - ECPv6.15.20//NONSGML v1.0//EN
CALSCALE:GREGORIAN
METHOD:PUBLISH
X-ORIGINAL-URL:https://thetwistedbead.com
X-WR-CALDESC:Events for The Twisted Bead and Rock Shop
REFRESH-INTERVAL;VALUE=DURATION:PT1H
X-Robots-Tag:noindex
X-PUBLISHED-TTL:PT1H
BEGIN:VTIMEZONE
TZID:America/New_York
BEGIN:DAYLIGHT
TZOFFSETFROM:-0500
TZOFFSETTO:-0400
TZNAME:EDT
DTSTART:20200308T070000
END:DAYLIGHT
BEGIN:STANDARD
TZOFFSETFROM:-0400
TZOFFSETTO:-0500
TZNAME:EST
DTSTART:20201101T060000
END:STANDARD
BEGIN:DAYLIGHT
TZOFFSETFROM:-0500
TZOFFSETTO:-0400
TZNAME:EDT
DTSTART:20210314T070000
END:DAYLIGHT
BEGIN:STANDARD
TZOFFSETFROM:-0400
TZOFFSETTO:-0500
TZNAME:EST
DTSTART:20211107T060000
END:STANDARD
BEGIN:DAYLIGHT
TZOFFSETFROM:-0500
TZOFFSETTO:-0400
TZNAME:EDT
DTSTART:20220313T070000
END:DAYLIGHT
BEGIN:STANDARD
TZOFFSETFROM:-0400
TZOFFSETTO:-0500
TZNAME:EST
DTSTART:20221106T060000
END:STANDARD
END:VTIMEZONE
BEGIN:VEVENT
DTSTART;VALUE=DATE:20211125
DTEND;VALUE=DATE:20211126
DTSTAMP:20260424T161814
CREATED:20211101T152029Z
LAST-MODIFIED:20211101T152728Z
UID:3982-1637798400-1637884799@thetwistedbead.com
SUMMARY:Happy Thanksgiving Day Nov 25
DESCRIPTION:The Twisted Bead & Rock Shop will be closed Thanksgiving day. During this holiday season\, remember to be kind to others and grateful for the moments you can share. \n 
URL:https://thetwistedbead.com/classes-events/happy-thanksgiving-nov-25/
LOCATION:159 Mitchells Chance Road\, Edgewater MD 21037\, 159 Mitchells Chance Rd\, Edgewater\, MD\, 21037
CATEGORIES:General
ATTACH;FMTTYPE=image/jpeg:https://thetwistedbead.com/wp-content/uploads/2018/10/VIOLETS-SUNSET.jpg
END:VEVENT
END:VCALENDAR